BEGIN:VCALENDAR
VERSION:2.0
PRODID:-//Sabre//Sabre VObject 3.5.3//EN
CALSCALE:GREGORIAN
BEGIN:VTIMEZONE
TZID:Europe/London
BEGIN:STANDARD
TZNAME:GMT
DTSTART:19701025T020000
RRULE:FREQ=YEARLY;BYMONTH=10;BYDAY=-1SU
TZOFFSETFROM:+0100
TZOFFSETTO:+0000
END:STANDARD
BEGIN:DAYLIGHT
TZNAME:BST
DTSTART:19700329T010000
RRULE:FREQ=YEARLY;BYMONTH=3;BYDAY=-1SU
TZOFFSETFROM:+0000
TZOFFSETTO:+0100
END:DAYLIGHT
END:VTIMEZONE
BEGIN:VEVENT
UID:event_211453@horsham-chamberchoir.org.uk
DTSTART;TZID=Europe/London:20260328T193000
DTEND;TZID=Europe/London:20260328T213000
SUMMARY:Ruin and Resurrection
DESCRIPTION:The programme looks from crumbling ruins to sacred cities\, bot
 h earthly and spiritually\, in this concert for Easter\, where heartbreak 
 turns to joyous reconciliation foretold in prophecy.\n\nIncluding Music by
  Coleridge Taylor\, Gabrielli\, Ireland\, Elgar and may others.\n\nFor ful
 l event details\, visit: https://www.horsham-chamberchoir.org.uk/dbpage.ph
 p?pg=view&dbase=events&id=211453
LOCATION:St Mary's Church\, The Causeway\, Horsham\, RH12 1HE
URL:https://www.horsham-chamberchoir.org.uk/dbpage.php?pg=view&dbase=events
 &id=211453
END:VEVENT
END:VCALENDAR
