BEGIN:VCALENDAR
VERSION:2.0
PRODID:-//Sabre//Sabre VObject 3.5.3//EN
CALSCALE:GREGORIAN
BEGIN:VTIMEZONE
TZID:Europe/London
BEGIN:STANDARD
TZNAME:GMT
DTSTART:19701025T020000
RRULE:FREQ=YEARLY;BYMONTH=10;BYDAY=-1SU
TZOFFSETFROM:+0100
TZOFFSETTO:+0000
END:STANDARD
BEGIN:DAYLIGHT
TZNAME:BST
DTSTART:19700329T010000
RRULE:FREQ=YEARLY;BYMONTH=3;BYDAY=-1SU
TZOFFSETFROM:+0000
TZOFFSETTO:+0100
END:DAYLIGHT
END:VTIMEZONE
BEGIN:VEVENT
UID:event_211454@horsham-chamberchoir.org.uk
DTSTART;TZID=Europe/London:20260620T193000
DTEND;TZID=Europe/London:20260620T213000
SUMMARY:The Strange and the Exotic
DESCRIPTION:Including music by Mozart\, Elgar\, Brahms\, Vaghan Williams an
 d many others.\n\nFor full event details\, visit: https://www.horsham-cham
 berchoir.org.uk/dbpage.php?pg=view&dbase=events&id=211454
URL:https://www.horsham-chamberchoir.org.uk/dbpage.php?pg=view&dbase=events
 &id=211454
END:VEVENT
END:VCALENDAR
